BEGIN:VCALENDAR
VERSION:2.0
PRODID:-//COSWG - ECPv6.15.20//NONSGML v1.0//EN
CALSCALE:GREGORIAN
METHOD:PUBLISH
X-WR-CALNAME:COSWG
X-ORIGINAL-URL:https://coswg.org
X-WR-CALDESC:Events for COSWG
REFRESH-INTERVAL;VALUE=DURATION:PT1H
X-Robots-Tag:noindex
X-PUBLISHED-TTL:PT1H
BEGIN:VTIMEZONE
TZID:America/Los_Angeles
BEGIN:DAYLIGHT
TZOFFSETFROM:-0800
TZOFFSETTO:-0700
TZNAME:PDT
DTSTART:20250309T100000
END:DAYLIGHT
BEGIN:STANDARD
TZOFFSETFROM:-0700
TZOFFSETTO:-0800
TZNAME:PST
DTSTART:20251102T090000
END:STANDARD
BEGIN:DAYLIGHT
TZOFFSETFROM:-0800
TZOFFSETTO:-0700
TZNAME:PDT
DTSTART:20260308T100000
END:DAYLIGHT
BEGIN:STANDARD
TZOFFSETFROM:-0700
TZOFFSETTO:-0800
TZNAME:PST
DTSTART:20261101T090000
END:STANDARD
BEGIN:DAYLIGHT
TZOFFSETFROM:-0800
TZOFFSETTO:-0700
TZNAME:PDT
DTSTART:20270314T100000
END:DAYLIGHT
BEGIN:STANDARD
TZOFFSETFROM:-0700
TZOFFSETTO:-0800
TZNAME:PST
DTSTART:20271107T090000
END:STANDARD
END:VTIMEZONE
BEGIN:VEVENT
DTSTART;TZID=America/Los_Angeles:20261009T130000
DTEND;TZID=America/Los_Angeles:20261009T153000
DTSTAMP:20260421T170020
CREATED:20260124T204144Z
LAST-MODIFIED:20260126T173643Z
UID:10002041-1791550800-1791559800@coswg.org
SUMMARY:Band Weaving Interest Group
DESCRIPTION:Band weaving interest group meets every other month from 1-3:30 PM at the Redmond Library. All are welcome. \nContact Donna Wilson for more information and to be added to the Band Weaving Group emails.
URL:https://coswg.org/event/band-weaving-interest-group-2/2026-10-09/
LOCATION:Redmond Library – Meeting Room\, 827 SW Deschutes Ave\, Redmond\, OR\, 97756\, United States
CATEGORIES:Band Weaving
ATTACH;FMTTYPE=image/png:https://coswg.org/wp-content/uploads/2026/01/Band-weaving-1.png
END:VEVENT
END:VCALENDAR