BEGIN:VCALENDAR
VERSION:2.0
PRODID:-//COSWG - ECPv6.15.20//NONSGML v1.0//EN
CALSCALE:GREGORIAN
METHOD:PUBLISH
X-ORIGINAL-URL:https://coswg.org
X-WR-CALDESC:Events for COSWG
REFRESH-INTERVAL;VALUE=DURATION:PT1H
X-Robots-Tag:noindex
X-PUBLISHED-TTL:PT1H
BEGIN:VTIMEZONE
TZID:America/Los_Angeles
BEGIN:DAYLIGHT
TZOFFSETFROM:-0800
TZOFFSETTO:-0700
TZNAME:PDT
DTSTART:20270314T100000
END:DAYLIGHT
BEGIN:STANDARD
TZOFFSETFROM:-0700
TZOFFSETTO:-0800
TZNAME:PST
DTSTART:20271107T090000
END:STANDARD
BEGIN:DAYLIGHT
TZOFFSETFROM:-0800
TZOFFSETTO:-0700
TZNAME:PDT
DTSTART:20280312T100000
END:DAYLIGHT
BEGIN:STANDARD
TZOFFSETFROM:-0700
TZOFFSETTO:-0800
TZNAME:PST
DTSTART:20281105T090000
END:STANDARD
BEGIN:DAYLIGHT
TZOFFSETFROM:-0800
TZOFFSETTO:-0700
TZNAME:PDT
DTSTART:20290311T100000
END:DAYLIGHT
BEGIN:STANDARD
TZOFFSETFROM:-0700
TZOFFSETTO:-0800
TZNAME:PST
DTSTART:20291104T090000
END:STANDARD
BEGIN:DAYLIGHT
TZOFFSETFROM:-0800
TZOFFSETTO:-0700
TZNAME:PDT
DTSTART:20300310T100000
END:DAYLIGHT
BEGIN:STANDARD
TZOFFSETFROM:-0700
TZOFFSETTO:-0800
TZNAME:PST
DTSTART:20301103T090000
END:STANDARD
BEGIN:DAYLIGHT
TZOFFSETFROM:-0800
TZOFFSETTO:-0700
TZNAME:PDT
DTSTART:20310309T100000
END:DAYLIGHT
BEGIN:STANDARD
TZOFFSETFROM:-0700
TZOFFSETTO:-0800
TZNAME:PST
DTSTART:20311102T090000
END:STANDARD
END:VTIMEZONE
BEGIN:VEVENT
DTSTART;TZID=America/Los_Angeles:20280609T130000
DTEND;TZID=America/Los_Angeles:20280609T153000
DTSTAMP:20260421T062404
CREATED:20260124T204144Z
LAST-MODIFIED:20260126T173643Z
UID:10002051-1844168400-1844177400@coswg.org
SUMMARY:Band Weaving Interest Group
DESCRIPTION:Band weaving interest group meets every other month from 1-3:30 PM at the Redmond Library. All are welcome. \nContact Donna Wilson for more information and to be added to the Band Weaving Group emails.
URL:https://coswg.org/event/band-weaving-interest-group-2/2028-06-09/
LOCATION:Redmond Library – Meeting Room\, 827 SW Deschutes Ave\, Redmond\, OR\, 97756\, United States
CATEGORIES:Band Weaving
ATTACH;FMTTYPE=image/png:https://coswg.org/wp-content/uploads/2026/01/Band-weaving-1.png
END:VEVENT
BEGIN:VEVENT
DTSTART;TZID=America/Los_Angeles:20280811T130000
DTEND;TZID=America/Los_Angeles:20280811T153000
DTSTAMP:20260421T062404
CREATED:20260124T204144Z
LAST-MODIFIED:20260126T173643Z
UID:10002052-1849611600-1849620600@coswg.org
SUMMARY:Band Weaving Interest Group
DESCRIPTION:Band weaving interest group meets every other month from 1-3:30 PM at the Redmond Library. All are welcome. \nContact Donna Wilson for more information and to be added to the Band Weaving Group emails.
URL:https://coswg.org/event/band-weaving-interest-group-2/2028-08-11/
LOCATION:Redmond Library – Meeting Room\, 827 SW Deschutes Ave\, Redmond\, OR\, 97756\, United States
CATEGORIES:Band Weaving
ATTACH;FMTTYPE=image/png:https://coswg.org/wp-content/uploads/2026/01/Band-weaving-1.png
END:VEVENT
BEGIN:VEVENT
DTSTART;TZID=America/Los_Angeles:20281013T130000
DTEND;TZID=America/Los_Angeles:20281013T153000
DTSTAMP:20260421T062404
CREATED:20260124T204144Z
LAST-MODIFIED:20260126T173643Z
UID:10002053-1855054800-1855063800@coswg.org
SUMMARY:Band Weaving Interest Group
DESCRIPTION:Band weaving interest group meets every other month from 1-3:30 PM at the Redmond Library. All are welcome. \nContact Donna Wilson for more information and to be added to the Band Weaving Group emails.
URL:https://coswg.org/event/band-weaving-interest-group-2/2028-10-13/
LOCATION:Redmond Library – Meeting Room\, 827 SW Deschutes Ave\, Redmond\, OR\, 97756\, United States
CATEGORIES:Band Weaving
ATTACH;FMTTYPE=image/png:https://coswg.org/wp-content/uploads/2026/01/Band-weaving-1.png
END:VEVENT
BEGIN:VEVENT
DTSTART;TZID=America/Los_Angeles:20281208T130000
DTEND;TZID=America/Los_Angeles:20281208T153000
DTSTAMP:20260421T062404
CREATED:20260124T204144Z
LAST-MODIFIED:20260126T173643Z
UID:10002054-1859893200-1859902200@coswg.org
SUMMARY:Band Weaving Interest Group
DESCRIPTION:Band weaving interest group meets every other month from 1-3:30 PM at the Redmond Library. All are welcome. \nContact Donna Wilson for more information and to be added to the Band Weaving Group emails.
URL:https://coswg.org/event/band-weaving-interest-group-2/2028-12-08/
LOCATION:Redmond Library – Meeting Room\, 827 SW Deschutes Ave\, Redmond\, OR\, 97756\, United States
CATEGORIES:Band Weaving
ATTACH;FMTTYPE=image/png:https://coswg.org/wp-content/uploads/2026/01/Band-weaving-1.png
END:VEVENT
BEGIN:VEVENT
DTSTART;TZID=America/Los_Angeles:20290209T130000
DTEND;TZID=America/Los_Angeles:20290209T153000
DTSTAMP:20260421T062404
CREATED:20260124T204144Z
LAST-MODIFIED:20260126T173643Z
UID:10002055-1865336400-1865345400@coswg.org
SUMMARY:Band Weaving Interest Group
DESCRIPTION:Band weaving interest group meets every other month from 1-3:30 PM at the Redmond Library. All are welcome. \nContact Donna Wilson for more information and to be added to the Band Weaving Group emails.
URL:https://coswg.org/event/band-weaving-interest-group-2/2029-02-09/
LOCATION:Redmond Library – Meeting Room\, 827 SW Deschutes Ave\, Redmond\, OR\, 97756\, United States
CATEGORIES:Band Weaving
ATTACH;FMTTYPE=image/png:https://coswg.org/wp-content/uploads/2026/01/Band-weaving-1.png
END:VEVENT
BEGIN:VEVENT
DTSTART;TZID=America/Los_Angeles:20290413T130000
DTEND;TZID=America/Los_Angeles:20290413T153000
DTSTAMP:20260421T062404
CREATED:20260124T204144Z
LAST-MODIFIED:20260126T173643Z
UID:10002056-1870779600-1870788600@coswg.org
SUMMARY:Band Weaving Interest Group
DESCRIPTION:Band weaving interest group meets every other month from 1-3:30 PM at the Redmond Library. All are welcome. \nContact Donna Wilson for more information and to be added to the Band Weaving Group emails.
URL:https://coswg.org/event/band-weaving-interest-group-2/2029-04-13/
LOCATION:Redmond Library – Meeting Room\, 827 SW Deschutes Ave\, Redmond\, OR\, 97756\, United States
CATEGORIES:Band Weaving
ATTACH;FMTTYPE=image/png:https://coswg.org/wp-content/uploads/2026/01/Band-weaving-1.png
END:VEVENT
BEGIN:VEVENT
DTSTART;TZID=America/Los_Angeles:20290608T130000
DTEND;TZID=America/Los_Angeles:20290608T153000
DTSTAMP:20260421T062404
CREATED:20260124T204144Z
LAST-MODIFIED:20260126T173643Z
UID:10002057-1875618000-1875627000@coswg.org
SUMMARY:Band Weaving Interest Group
DESCRIPTION:Band weaving interest group meets every other month from 1-3:30 PM at the Redmond Library. All are welcome. \nContact Donna Wilson for more information and to be added to the Band Weaving Group emails.
URL:https://coswg.org/event/band-weaving-interest-group-2/2029-06-08/
LOCATION:Redmond Library – Meeting Room\, 827 SW Deschutes Ave\, Redmond\, OR\, 97756\, United States
CATEGORIES:Band Weaving
ATTACH;FMTTYPE=image/png:https://coswg.org/wp-content/uploads/2026/01/Band-weaving-1.png
END:VEVENT
BEGIN:VEVENT
DTSTART;TZID=America/Los_Angeles:20290810T130000
DTEND;TZID=America/Los_Angeles:20290810T153000
DTSTAMP:20260421T062404
CREATED:20260124T204144Z
LAST-MODIFIED:20260126T173643Z
UID:10002058-1881061200-1881070200@coswg.org
SUMMARY:Band Weaving Interest Group
DESCRIPTION:Band weaving interest group meets every other month from 1-3:30 PM at the Redmond Library. All are welcome. \nContact Donna Wilson for more information and to be added to the Band Weaving Group emails.
URL:https://coswg.org/event/band-weaving-interest-group-2/2029-08-10/
LOCATION:Redmond Library – Meeting Room\, 827 SW Deschutes Ave\, Redmond\, OR\, 97756\, United States
CATEGORIES:Band Weaving
ATTACH;FMTTYPE=image/png:https://coswg.org/wp-content/uploads/2026/01/Band-weaving-1.png
END:VEVENT
BEGIN:VEVENT
DTSTART;TZID=America/Los_Angeles:20291012T130000
DTEND;TZID=America/Los_Angeles:20291012T153000
DTSTAMP:20260421T062404
CREATED:20260124T204144Z
LAST-MODIFIED:20260126T173643Z
UID:10002059-1886504400-1886513400@coswg.org
SUMMARY:Band Weaving Interest Group
DESCRIPTION:Band weaving interest group meets every other month from 1-3:30 PM at the Redmond Library. All are welcome. \nContact Donna Wilson for more information and to be added to the Band Weaving Group emails.
URL:https://coswg.org/event/band-weaving-interest-group-2/2029-10-12/
LOCATION:Redmond Library – Meeting Room\, 827 SW Deschutes Ave\, Redmond\, OR\, 97756\, United States
CATEGORIES:Band Weaving
ATTACH;FMTTYPE=image/png:https://coswg.org/wp-content/uploads/2026/01/Band-weaving-1.png
END:VEVENT
BEGIN:VEVENT
DTSTART;TZID=America/Los_Angeles:20291214T130000
DTEND;TZID=America/Los_Angeles:20291214T153000
DTSTAMP:20260421T062404
CREATED:20260124T204144Z
LAST-MODIFIED:20260126T173643Z
UID:10002060-1891947600-1891956600@coswg.org
SUMMARY:Band Weaving Interest Group
DESCRIPTION:Band weaving interest group meets every other month from 1-3:30 PM at the Redmond Library. All are welcome. \nContact Donna Wilson for more information and to be added to the Band Weaving Group emails.
URL:https://coswg.org/event/band-weaving-interest-group-2/2029-12-14/
LOCATION:Redmond Library – Meeting Room\, 827 SW Deschutes Ave\, Redmond\, OR\, 97756\, United States
CATEGORIES:Band Weaving
ATTACH;FMTTYPE=image/png:https://coswg.org/wp-content/uploads/2026/01/Band-weaving-1.png
END:VEVENT
BEGIN:VEVENT
DTSTART;TZID=America/Los_Angeles:20300208T130000
DTEND;TZID=America/Los_Angeles:20300208T153000
DTSTAMP:20260421T062404
CREATED:20260124T204144Z
LAST-MODIFIED:20260126T173643Z
UID:10002061-1896786000-1896795000@coswg.org
SUMMARY:Band Weaving Interest Group
DESCRIPTION:Band weaving interest group meets every other month from 1-3:30 PM at the Redmond Library. All are welcome. \nContact Donna Wilson for more information and to be added to the Band Weaving Group emails.
URL:https://coswg.org/event/band-weaving-interest-group-2/2030-02-08/
LOCATION:Redmond Library – Meeting Room\, 827 SW Deschutes Ave\, Redmond\, OR\, 97756\, United States
CATEGORIES:Band Weaving
ATTACH;FMTTYPE=image/png:https://coswg.org/wp-content/uploads/2026/01/Band-weaving-1.png
END:VEVENT
BEGIN:VEVENT
DTSTART;TZID=America/Los_Angeles:20300412T130000
DTEND;TZID=America/Los_Angeles:20300412T153000
DTSTAMP:20260421T062404
CREATED:20260124T204144Z
LAST-MODIFIED:20260126T173643Z
UID:10002062-1902229200-1902238200@coswg.org
SUMMARY:Band Weaving Interest Group
DESCRIPTION:Band weaving interest group meets every other month from 1-3:30 PM at the Redmond Library. All are welcome. \nContact Donna Wilson for more information and to be added to the Band Weaving Group emails.
URL:https://coswg.org/event/band-weaving-interest-group-2/2030-04-12/
LOCATION:Redmond Library – Meeting Room\, 827 SW Deschutes Ave\, Redmond\, OR\, 97756\, United States
CATEGORIES:Band Weaving
ATTACH;FMTTYPE=image/png:https://coswg.org/wp-content/uploads/2026/01/Band-weaving-1.png
END:VEVENT
BEGIN:VEVENT
DTSTART;TZID=America/Los_Angeles:20300614T130000
DTEND;TZID=America/Los_Angeles:20300614T153000
DTSTAMP:20260421T062404
CREATED:20260124T204144Z
LAST-MODIFIED:20260126T173643Z
UID:10002063-1907672400-1907681400@coswg.org
SUMMARY:Band Weaving Interest Group
DESCRIPTION:Band weaving interest group meets every other month from 1-3:30 PM at the Redmond Library. All are welcome. \nContact Donna Wilson for more information and to be added to the Band Weaving Group emails.
URL:https://coswg.org/event/band-weaving-interest-group-2/2030-06-14/
LOCATION:Redmond Library – Meeting Room\, 827 SW Deschutes Ave\, Redmond\, OR\, 97756\, United States
CATEGORIES:Band Weaving
ATTACH;FMTTYPE=image/png:https://coswg.org/wp-content/uploads/2026/01/Band-weaving-1.png
END:VEVENT
BEGIN:VEVENT
DTSTART;TZID=America/Los_Angeles:20300809T130000
DTEND;TZID=America/Los_Angeles:20300809T153000
DTSTAMP:20260421T062404
CREATED:20260124T204144Z
LAST-MODIFIED:20260126T173643Z
UID:10002064-1912510800-1912519800@coswg.org
SUMMARY:Band Weaving Interest Group
DESCRIPTION:Band weaving interest group meets every other month from 1-3:30 PM at the Redmond Library. All are welcome. \nContact Donna Wilson for more information and to be added to the Band Weaving Group emails.
URL:https://coswg.org/event/band-weaving-interest-group-2/2030-08-09/
LOCATION:Redmond Library – Meeting Room\, 827 SW Deschutes Ave\, Redmond\, OR\, 97756\, United States
CATEGORIES:Band Weaving
ATTACH;FMTTYPE=image/png:https://coswg.org/wp-content/uploads/2026/01/Band-weaving-1.png
END:VEVENT
BEGIN:VEVENT
DTSTART;TZID=America/Los_Angeles:20301011T130000
DTEND;TZID=America/Los_Angeles:20301011T153000
DTSTAMP:20260421T062404
CREATED:20260124T204144Z
LAST-MODIFIED:20260126T173643Z
UID:10002065-1917954000-1917963000@coswg.org
SUMMARY:Band Weaving Interest Group
DESCRIPTION:Band weaving interest group meets every other month from 1-3:30 PM at the Redmond Library. All are welcome. \nContact Donna Wilson for more information and to be added to the Band Weaving Group emails.
URL:https://coswg.org/event/band-weaving-interest-group-2/2030-10-11/
LOCATION:Redmond Library – Meeting Room\, 827 SW Deschutes Ave\, Redmond\, OR\, 97756\, United States
CATEGORIES:Band Weaving
ATTACH;FMTTYPE=image/png:https://coswg.org/wp-content/uploads/2026/01/Band-weaving-1.png
END:VEVENT
BEGIN:VEVENT
DTSTART;TZID=America/Los_Angeles:20301213T130000
DTEND;TZID=America/Los_Angeles:20301213T153000
DTSTAMP:20260421T062404
CREATED:20260124T204144Z
LAST-MODIFIED:20260126T173643Z
UID:10002066-1923397200-1923406200@coswg.org
SUMMARY:Band Weaving Interest Group
DESCRIPTION:Band weaving interest group meets every other month from 1-3:30 PM at the Redmond Library. All are welcome. \nContact Donna Wilson for more information and to be added to the Band Weaving Group emails.
URL:https://coswg.org/event/band-weaving-interest-group-2/2030-12-13/
LOCATION:Redmond Library – Meeting Room\, 827 SW Deschutes Ave\, Redmond\, OR\, 97756\, United States
CATEGORIES:Band Weaving
ATTACH;FMTTYPE=image/png:https://coswg.org/wp-content/uploads/2026/01/Band-weaving-1.png
END:VEVENT
END:VCALENDAR