BEGIN:VCALENDAR
VERSION:2.0
PRODID:-//COSWG - ECPv6.15.20//NONSGML v1.0//EN
CALSCALE:GREGORIAN
METHOD:PUBLISH
X-WR-CALNAME:COSWG
X-ORIGINAL-URL:https://coswg.org
X-WR-CALDESC:Events for COSWG
REFRESH-INTERVAL;VALUE=DURATION:PT1H
X-Robots-Tag:noindex
X-PUBLISHED-TTL:PT1H
BEGIN:VTIMEZONE
TZID:America/Los_Angeles
BEGIN:DAYLIGHT
TZOFFSETFROM:-0800
TZOFFSETTO:-0700
TZNAME:PDT
DTSTART:20240310T100000
END:DAYLIGHT
BEGIN:STANDARD
TZOFFSETFROM:-0700
TZOFFSETTO:-0800
TZNAME:PST
DTSTART:20241103T090000
END:STANDARD
BEGIN:DAYLIGHT
TZOFFSETFROM:-0800
TZOFFSETTO:-0700
TZNAME:PDT
DTSTART:20250309T100000
END:DAYLIGHT
BEGIN:STANDARD
TZOFFSETFROM:-0700
TZOFFSETTO:-0800
TZNAME:PST
DTSTART:20251102T090000
END:STANDARD
BEGIN:DAYLIGHT
TZOFFSETFROM:-0800
TZOFFSETTO:-0700
TZNAME:PDT
DTSTART:20260308T100000
END:DAYLIGHT
BEGIN:STANDARD
TZOFFSETFROM:-0700
TZOFFSETTO:-0800
TZNAME:PST
DTSTART:20261101T090000
END:STANDARD
END:VTIMEZONE
BEGIN:VEVENT
DTSTART;TZID=America/Los_Angeles:20251017T101500
DTEND;TZID=America/Los_Angeles:20251017T113000
DTSTAMP:20260421T124122
CREATED:20250826T174309Z
LAST-MODIFIED:20250826T174542Z
UID:10001088-1760696100-1760700600@coswg.org
SUMMARY:Weave Structure Study Group
DESCRIPTION:This study group focuses on a weave structure for an agreed amount of time and meets about quarterly to share ideas and show progress.
URL:https://coswg.org/event/weave-structure-study-group-6/
LOCATION:Deschutes Public Library East Side Conference Room\, 62080 Dean Swift Rd\, Bend\, OR\, 97701
CATEGORIES:Weave Structures
ATTACH;FMTTYPE=image/jpeg:https://coswg.org/wp-content/uploads/2024/09/Gettmann-boucle-towels.jpg
END:VEVENT
END:VCALENDAR