BEGIN:VCALENDAR
VERSION:2.0
PRODID:-//COSWG - ECPv6.15.20//NONSGML v1.0//EN
CALSCALE:GREGORIAN
METHOD:PUBLISH
X-ORIGINAL-URL:https://coswg.org
X-WR-CALDESC:Events for COSWG
REFRESH-INTERVAL;VALUE=DURATION:PT1H
X-Robots-Tag:noindex
X-PUBLISHED-TTL:PT1H
BEGIN:VTIMEZONE
TZID:America/Los_Angeles
BEGIN:DAYLIGHT
TZOFFSETFROM:-0800
TZOFFSETTO:-0700
TZNAME:PDT
DTSTART:20250309T100000
END:DAYLIGHT
BEGIN:STANDARD
TZOFFSETFROM:-0700
TZOFFSETTO:-0800
TZNAME:PST
DTSTART:20251102T090000
END:STANDARD
BEGIN:DAYLIGHT
TZOFFSETFROM:-0800
TZOFFSETTO:-0700
TZNAME:PDT
DTSTART:20260308T100000
END:DAYLIGHT
BEGIN:STANDARD
TZOFFSETFROM:-0700
TZOFFSETTO:-0800
TZNAME:PST
DTSTART:20261101T090000
END:STANDARD
BEGIN:DAYLIGHT
TZOFFSETFROM:-0800
TZOFFSETTO:-0700
TZNAME:PDT
DTSTART:20270314T100000
END:DAYLIGHT
BEGIN:STANDARD
TZOFFSETFROM:-0700
TZOFFSETTO:-0800
TZNAME:PST
DTSTART:20271107T090000
END:STANDARD
END:VTIMEZONE
BEGIN:VEVENT
DTSTART;TZID=America/Los_Angeles:20260519T090000
DTEND;TZID=America/Los_Angeles:20260519T160000
DTSTAMP:20260421T045038
CREATED:20260220T184529Z
LAST-MODIFIED:20260304T232156Z
UID:10002232-1779181200-1779206400@coswg.org
SUMMARY:Workshop - Karen Gelbard: Trash Bag Garment Design
DESCRIPTION:1 day workshop \nSponsorship: This workshop is partially sponsored by the Patricia Williams Memorial Fund.  Patricia was a spinner\, weaver\, knitter and quilter\, and a member of the Portland Handweavers guild. Central Oregon Spinners & Weavers is grateful to Cherry Williams and the family for their donation. \nInstructor: Karen Gelbard\, theoregonweaver.com \nRegistration: Open to guild members on Feb. 27 and closes on May 5. \nThe workshop will accommodate 8 students. \nCost: Approx. $65. \nMaterials fee: $40\, pay Karen in cash the day of the workshop. \nStudents Bring:  Plastic trash bags of all sizes\, including grocery plastic bags and produce bags.  Bring a roll of colored duct tape in your favorite color if you want.  Karen will have materials as well. \nDescription:  Practicing Design Decisions or Finding Your Inner Designer.  \nThis workshop is for handweavers who want to practice their design skills. We will create a garment using only trash bags. Trash bags of different sizes\, colors\, and styles are used because they are rectangles\, inexpensive\, and easily available.\nBased on the simple format of a trash bag\, we decide what to do for necks\, arms\, and legs. \nFor inspiration\, there will be a review of techniques used by other cultures that turn a rectangle into garment shapes. Cutting\, taping\, braiding\, and laminating plastic bags are examples of the techniques that could be used in this exercise.\nThe workshop will conclude with a fashion show of designs after the session. Participants pair up as designer and model to collaborate. \nBio:   Karen Gelbard\, The Oregon Weaver\, weaves and designs handwoven jackets\, coats\, and scarves. She uses her loom to create color harmonies and textures inspired by living on the Oregon Coast. Her work can be seen online\, at galleries\, and juried art fairs across the country\, where she has received recognition for her handwoven designs. Her favorite activity is rolling out yardage on the cutting table and starting the design process for a new handwoven garment. In addition to designing garments\, Karen has been part of the restoration process at Timberline Lodge\, weaving over 310 yards of upholstery fabric in the historic tradition. Her work has appeared in the Style magazine Tearsheet PDX for four years\, she teaches workshops on garment construction\, researches historic textiles\, and enjoys an occasional trip to Italy to study textiles. \n \nSee workshop policy here. \nWorkshop participants agree to indemnify\, defend and hold harmless COSWG\, its officers and members\, from all claims arising out of workshop activities.
URL:https://coswg.org/event/workshop-karen-gelbard-trash-bag-garment-design/
LOCATION:Highland Baptist Church in Redmond\, 3100 SW Highland Ave\, Redmond\, OR\, 97756\, United States
CATEGORIES:Rigid Heddle,Weave Structures,Workshop
ATTACH;FMTTYPE=image/jpeg:https://coswg.org/wp-content/uploads/2026/02/KarenGelbard.jpg
ORGANIZER;CN="COSWG":MAILTO:centraloregonspinnersweavers@gmail.com
END:VEVENT
BEGIN:VEVENT
DTSTART;TZID=America/Los_Angeles:20260521T090000
DTEND;TZID=America/Los_Angeles:20260522T160000
DTSTAMP:20260421T045038
CREATED:20260220T190105Z
LAST-MODIFIED:20260304T231951Z
UID:10002233-1779354000-1779465600@coswg.org
SUMMARY:Workshop Session 1 – Karen Gelbard: Cut and Sew Your Own Handwoven Jacket/Vest/Top
DESCRIPTION:2-day Workshop \nSponsorship: This workshop is partially sponsored by the Patricia Williams Memorial Fund.  Patricia was a spinner\, weaver\, knitter and quilter\, and a member of the Portland Handweavers guild. Central Oregon Spinners &amp; Weavers is grateful to Cherry Williams and the family for their donation. \nInstructor: Karen Gelbard\, theoregonweaver.com \nRegistration: Opens to Guild members on Feb 27 and closes on May 7. \nThe workshop will accommodate 8 students. \nCost: $150 \nMaterials fee: $45\, which includes Pellon\, interfacing\, and other materials. Please pay Karen in cash on the first day of the workshop. \nStudents Bring: Sewing machine in good working order. Paper garment pattern of your choice cut out to your size. Handwoven or commercial fabric: 3-4 yds for a vest or top\, 5 yards for a jacket or longer garment. All fabric should be washed (wet finished) and dried several days before the workshop. Bring any synthetic lining material you might want to use. Bring 1 ½-1 ¾ yds. good cotton fabric that goes with your garment fabric to use for binding. Bring a dress form if you have one. Sharp scissors\, cutting mat and rotary cutter\, tape measure\, seam ripper\, ruler with a cork back\, thread to match fabric\, extra sewing machine needles. Karen will have materials and patterns as well. We will provide irons and ironing boards. \nDescription: For weavers who want to cut and sew their own. This is an intense 2-day experience designing and sewing with handwoven cloth. It explores pattern layout\, individual fit issues\, and creative design solutions. Participants layout\, cut\, and sew their own custom garments with Karen’s guidance. Having their yardage is a prerequisite. Commercial fabric can be used.  They need to bring a pattern they want to use and sewing machines they are familiar with and that are in good working order. \nBio: Karen Gelbard\, The Oregon Weaver\, weaves and designs handwoven jackets\, coats\, and scarves. She uses her loom to create color harmonies and textures inspired by living on the Oregon Coast. Her work can be seen online\, at galleries\, and juried art fairs across the country\, where she has received recognition for her handwoven designs. Her favorite activity is rolling out yardage on the cutting table and starting the design process for a new handwoven garment. In addition to designing garments\, Karen has been part of the restoration process at Timberline Lodge\, weaving over 310 yards of upholstery fabric in the historic tradition. Her work has appeared in the Style magazine Tearsheet PDX for four years\, she teaches workshops on garment construction\, researches historic textiles\, and enjoys an occasional trip to Italy to study textiles. \n \nSee workshop policy here. \nWorkshop participants agree to indemnify\, defend and hold harmless COSWG\, its officers and members\, from all claims arising out of workshop activities.
URL:https://coswg.org/event/workshop-1-karen-gelbard-cut-and-sew-your-own-handwoven-jacket-vest-top/
LOCATION:Element Hotel\, 1526 Wall St\, Bend\, OR\, 97703\, United States
CATEGORIES:Rigid Heddle,Weave Structures,Workshop
ATTACH;FMTTYPE=image/jpeg:https://coswg.org/wp-content/uploads/2026/02/KarenGelbard.jpg
ORGANIZER;CN="COSWG":MAILTO:centraloregonspinnersweavers@gmail.com
END:VEVENT
BEGIN:VEVENT
DTSTART;TZID=America/Los_Angeles:20260523T090000
DTEND;TZID=America/Los_Angeles:20260524T160000
DTSTAMP:20260421T045038
CREATED:20260224T171519Z
LAST-MODIFIED:20260304T231615Z
UID:10002354-1779526800-1779638400@coswg.org
SUMMARY:Workshop Session 2 – Karen Gelbard: Cut and Sew Your Own Handwoven Jacket/Vest/Top
DESCRIPTION:2-day Workshop \nSponsorship: This workshop is partially sponsored by the Patricia Williams Memorial Fund.  Patricia was a spinner\, weaver\, knitter and quilter\, and a member of the Portland Handweavers guild. Central Oregon Spinners &amp; Weavers is grateful to Cherry Williams and the family for their donation. \nInstructor: Karen Gelbard\, theoregonweaver.com \nRegistration: Opens to Guild members on Feb 27 and closes on May 9. \nThe workshop will accommodate 8 students. \nCost: $150 \nMaterials fee: $45\, which includes Pellon\, interfacing\, and other materials. Please pay Karen in cash on the first day of the workshop. \nStudents Bring: Sewing machine in good working order. Paper garment pattern of your choice cut out to your size. Handwoven or commercial fabric: 3-4 yds for a vest or top\, 5 yards for a jacket or longer garment. All fabric should be washed (wet finished) and dried several days before the workshop. Bring any synthetic lining material you might want to use. Bring 1 ½-1 ¾ yds. good cotton fabric that goes with your garment fabric to use for binding. Bring a dress form if you have one. Sharp scissors\, cutting mat and rotary cutter\, tape measure\, seam ripper\, ruler with a cork back\, thread to match fabric\, extra sewing machine needles. Karen will have materials and patterns as well. We will provide irons and ironing boards. \nDescription: For weavers who want to cut and sew their own. This is an intense 2-day experience designing and sewing with handwoven cloth. It explores pattern layout\, individual fit issues\, and creative design solutions. Participants layout\, cut\, and sew their own custom garments with Karen’s guidance. Having their yardage is a prerequisite. Commercial fabric can be used.  They need to bring a pattern they want to use and sewing machines they are familiar with and that are in good working order. \nBio: Karen Gelbard\, The Oregon Weaver\, weaves and designs handwoven jackets\, coats\, and scarves. She uses her loom to create color harmonies and textures inspired by living on the Oregon Coast. Her work can be seen online\, at galleries\, and juried art fairs across the country\, where she has received recognition for her handwoven designs. Her favorite activity is rolling out yardage on the cutting table and starting the design process for a new handwoven garment. In addition to designing garments\, Karen has been part of the restoration process at Timberline Lodge\, weaving over 310 yards of upholstery fabric in the historic tradition. Her work has appeared in the Style magazine Tearsheet PDX for four years\, she teaches workshops on garment construction\, researches historic textiles\, and enjoys an occasional trip to Italy to study textiles. \n \nSee workshop policy here. \nWorkshop participants agree to indemnify\, defend and hold harmless COSWG\, its officers and members\, from all claims arising out of workshop activities.
URL:https://coswg.org/event/workshop-session-2-karen-gelbard-cut-and-sew-your-own-handwoven-jacket-vest-top/
LOCATION:Element Hotel\, 1526 Wall St\, Bend\, OR\, 97703\, United States
CATEGORIES:Rigid Heddle,Weave Structures,Workshop
ATTACH;FMTTYPE=image/jpeg:https://coswg.org/wp-content/uploads/2026/02/KarenGelbard.jpg
ORGANIZER;CN="COSWG":MAILTO:centraloregonspinnersweavers@gmail.com
END:VEVENT
END:VCALENDAR