BEGIN:VCALENDAR
VERSION:2.0
PRODID:-//COSWG - ECPv6.15.20//NONSGML v1.0//EN
CALSCALE:GREGORIAN
METHOD:PUBLISH
X-WR-CALNAME:COSWG
X-ORIGINAL-URL:https://coswg.org
X-WR-CALDESC:Events for COSWG
REFRESH-INTERVAL;VALUE=DURATION:PT1H
X-Robots-Tag:noindex
X-PUBLISHED-TTL:PT1H
BEGIN:VTIMEZONE
TZID:America/Los_Angeles
BEGIN:DAYLIGHT
TZOFFSETFROM:-0800
TZOFFSETTO:-0700
TZNAME:PDT
DTSTART:20260308T100000
END:DAYLIGHT
BEGIN:STANDARD
TZOFFSETFROM:-0700
TZOFFSETTO:-0800
TZNAME:PST
DTSTART:20261101T090000
END:STANDARD
BEGIN:DAYLIGHT
TZOFFSETFROM:-0800
TZOFFSETTO:-0700
TZNAME:PDT
DTSTART:20270314T100000
END:DAYLIGHT
BEGIN:STANDARD
TZOFFSETFROM:-0700
TZOFFSETTO:-0800
TZNAME:PST
DTSTART:20271107T090000
END:STANDARD
BEGIN:DAYLIGHT
TZOFFSETFROM:-0800
TZOFFSETTO:-0700
TZNAME:PDT
DTSTART:20280312T100000
END:DAYLIGHT
BEGIN:STANDARD
TZOFFSETFROM:-0700
TZOFFSETTO:-0800
TZNAME:PST
DTSTART:20281105T090000
END:STANDARD
BEGIN:DAYLIGHT
TZOFFSETFROM:-0800
TZOFFSETTO:-0700
TZNAME:PDT
DTSTART:20290311T100000
END:DAYLIGHT
BEGIN:STANDARD
TZOFFSETFROM:-0700
TZOFFSETTO:-0800
TZNAME:PST
DTSTART:20291104T090000
END:STANDARD
BEGIN:DAYLIGHT
TZOFFSETFROM:-0800
TZOFFSETTO:-0700
TZNAME:PDT
DTSTART:20300310T100000
END:DAYLIGHT
BEGIN:STANDARD
TZOFFSETFROM:-0700
TZOFFSETTO:-0800
TZNAME:PST
DTSTART:20301103T090000
END:STANDARD
END:VTIMEZONE
BEGIN:VEVENT
DTSTART;TZID=America/Los_Angeles:20270516T130000
DTEND;TZID=America/Los_Angeles:20270516T150000
DTSTAMP:20260421T045716
CREATED:20251110T223911Z
LAST-MODIFIED:20260124T193830Z
UID:10001865-1810472400-1810479600@coswg.org
SUMMARY:Tapestry Interest Group meeting on Sunday
DESCRIPTION:This content is for members only.Join Now\nAlready a member? Log in here
URL:https://coswg.org/event/study-group-sunday-tapestry-study-group-2025-03-16-2/2027-05-16/
LOCATION:Frank Family Ranch\, Bend\, 97703\, United States
CATEGORIES:Tapestry
ATTACH;FMTTYPE=image/avif:https://coswg.org/wp-content/uploads/2023/10/1664320837-small-tapestry-on-loom.avif
ORGANIZER;CN="COSWG":MAILTO:centraloregonspinnersweavers@gmail.com
END:VEVENT
BEGIN:VEVENT
DTSTART;TZID=America/Los_Angeles:20270620T130000
DTEND;TZID=America/Los_Angeles:20270620T150000
DTSTAMP:20260421T045716
CREATED:20251110T223911Z
LAST-MODIFIED:20260124T193830Z
UID:10001866-1813496400-1813503600@coswg.org
SUMMARY:Tapestry Interest Group meeting on Sunday
DESCRIPTION:This content is for members only.Join Now\nAlready a member? Log in here
URL:https://coswg.org/event/study-group-sunday-tapestry-study-group-2025-03-16-2/2027-06-20/
LOCATION:Frank Family Ranch\, Bend\, 97703\, United States
CATEGORIES:Tapestry
ATTACH;FMTTYPE=image/avif:https://coswg.org/wp-content/uploads/2023/10/1664320837-small-tapestry-on-loom.avif
ORGANIZER;CN="COSWG":MAILTO:centraloregonspinnersweavers@gmail.com
END:VEVENT
BEGIN:VEVENT
DTSTART;TZID=America/Los_Angeles:20270718T130000
DTEND;TZID=America/Los_Angeles:20270718T150000
DTSTAMP:20260421T045716
CREATED:20251110T223911Z
LAST-MODIFIED:20260124T193830Z
UID:10001867-1815915600-1815922800@coswg.org
SUMMARY:Tapestry Interest Group meeting on Sunday
DESCRIPTION:This content is for members only.Join Now\nAlready a member? Log in here
URL:https://coswg.org/event/study-group-sunday-tapestry-study-group-2025-03-16-2/2027-07-18/
LOCATION:Frank Family Ranch\, Bend\, 97703\, United States
CATEGORIES:Tapestry
ATTACH;FMTTYPE=image/avif:https://coswg.org/wp-content/uploads/2023/10/1664320837-small-tapestry-on-loom.avif
ORGANIZER;CN="COSWG":MAILTO:centraloregonspinnersweavers@gmail.com
END:VEVENT
BEGIN:VEVENT
DTSTART;TZID=America/Los_Angeles:20270815T130000
DTEND;TZID=America/Los_Angeles:20270815T150000
DTSTAMP:20260421T045716
CREATED:20251110T223911Z
LAST-MODIFIED:20260124T193830Z
UID:10001868-1818334800-1818342000@coswg.org
SUMMARY:Tapestry Interest Group meeting on Sunday
DESCRIPTION:This content is for members only.Join Now\nAlready a member? Log in here
URL:https://coswg.org/event/study-group-sunday-tapestry-study-group-2025-03-16-2/2027-08-15/
LOCATION:Frank Family Ranch\, Bend\, 97703\, United States
CATEGORIES:Tapestry
ATTACH;FMTTYPE=image/avif:https://coswg.org/wp-content/uploads/2023/10/1664320837-small-tapestry-on-loom.avif
ORGANIZER;CN="COSWG":MAILTO:centraloregonspinnersweavers@gmail.com
END:VEVENT
BEGIN:VEVENT
DTSTART;TZID=America/Los_Angeles:20270919T130000
DTEND;TZID=America/Los_Angeles:20270919T150000
DTSTAMP:20260421T045716
CREATED:20251110T223911Z
LAST-MODIFIED:20260124T193830Z
UID:10001869-1821358800-1821366000@coswg.org
SUMMARY:Tapestry Interest Group meeting on Sunday
DESCRIPTION:This content is for members only.Join Now\nAlready a member? Log in here
URL:https://coswg.org/event/study-group-sunday-tapestry-study-group-2025-03-16-2/2027-09-19/
LOCATION:Frank Family Ranch\, Bend\, 97703\, United States
CATEGORIES:Tapestry
ATTACH;FMTTYPE=image/avif:https://coswg.org/wp-content/uploads/2023/10/1664320837-small-tapestry-on-loom.avif
ORGANIZER;CN="COSWG":MAILTO:centraloregonspinnersweavers@gmail.com
END:VEVENT
BEGIN:VEVENT
DTSTART;TZID=America/Los_Angeles:20271017T130000
DTEND;TZID=America/Los_Angeles:20271017T150000
DTSTAMP:20260421T045716
CREATED:20251110T223911Z
LAST-MODIFIED:20260124T193830Z
UID:10001870-1823778000-1823785200@coswg.org
SUMMARY:Tapestry Interest Group meeting on Sunday
DESCRIPTION:This content is for members only.Join Now\nAlready a member? Log in here
URL:https://coswg.org/event/study-group-sunday-tapestry-study-group-2025-03-16-2/2027-10-17/
LOCATION:Frank Family Ranch\, Bend\, 97703\, United States
CATEGORIES:Tapestry
ATTACH;FMTTYPE=image/avif:https://coswg.org/wp-content/uploads/2023/10/1664320837-small-tapestry-on-loom.avif
ORGANIZER;CN="COSWG":MAILTO:centraloregonspinnersweavers@gmail.com
END:VEVENT
BEGIN:VEVENT
DTSTART;TZID=America/Los_Angeles:20271121T130000
DTEND;TZID=America/Los_Angeles:20271121T150000
DTSTAMP:20260421T045716
CREATED:20251110T223911Z
LAST-MODIFIED:20260124T193830Z
UID:10001871-1826802000-1826809200@coswg.org
SUMMARY:Tapestry Interest Group meeting on Sunday
DESCRIPTION:This content is for members only.Join Now\nAlready a member? Log in here
URL:https://coswg.org/event/study-group-sunday-tapestry-study-group-2025-03-16-2/2027-11-21/
LOCATION:Frank Family Ranch\, Bend\, 97703\, United States
CATEGORIES:Tapestry
ATTACH;FMTTYPE=image/avif:https://coswg.org/wp-content/uploads/2023/10/1664320837-small-tapestry-on-loom.avif
ORGANIZER;CN="COSWG":MAILTO:centraloregonspinnersweavers@gmail.com
END:VEVENT
BEGIN:VEVENT
DTSTART;TZID=America/Los_Angeles:20271219T130000
DTEND;TZID=America/Los_Angeles:20271219T150000
DTSTAMP:20260421T045716
CREATED:20251110T223911Z
LAST-MODIFIED:20260124T193830Z
UID:10001872-1829221200-1829228400@coswg.org
SUMMARY:Tapestry Interest Group meeting on Sunday
DESCRIPTION:This content is for members only.Join Now\nAlready a member? Log in here
URL:https://coswg.org/event/study-group-sunday-tapestry-study-group-2025-03-16-2/2027-12-19/
LOCATION:Frank Family Ranch\, Bend\, 97703\, United States
CATEGORIES:Tapestry
ATTACH;FMTTYPE=image/avif:https://coswg.org/wp-content/uploads/2023/10/1664320837-small-tapestry-on-loom.avif
ORGANIZER;CN="COSWG":MAILTO:centraloregonspinnersweavers@gmail.com
END:VEVENT
BEGIN:VEVENT
DTSTART;TZID=America/Los_Angeles:20280116T130000
DTEND;TZID=America/Los_Angeles:20280116T150000
DTSTAMP:20260421T045716
CREATED:20251110T223911Z
LAST-MODIFIED:20260124T193830Z
UID:10001873-1831640400-1831647600@coswg.org
SUMMARY:Tapestry Interest Group meeting on Sunday
DESCRIPTION:This content is for members only.Join Now\nAlready a member? Log in here
URL:https://coswg.org/event/study-group-sunday-tapestry-study-group-2025-03-16-2/2028-01-16/
LOCATION:Frank Family Ranch\, Bend\, 97703\, United States
CATEGORIES:Tapestry
ATTACH;FMTTYPE=image/avif:https://coswg.org/wp-content/uploads/2023/10/1664320837-small-tapestry-on-loom.avif
ORGANIZER;CN="COSWG":MAILTO:centraloregonspinnersweavers@gmail.com
END:VEVENT
BEGIN:VEVENT
DTSTART;TZID=America/Los_Angeles:20280220T130000
DTEND;TZID=America/Los_Angeles:20280220T150000
DTSTAMP:20260421T045716
CREATED:20251110T223911Z
LAST-MODIFIED:20260124T193830Z
UID:10001874-1834664400-1834671600@coswg.org
SUMMARY:Tapestry Interest Group meeting on Sunday
DESCRIPTION:This content is for members only.Join Now\nAlready a member? Log in here
URL:https://coswg.org/event/study-group-sunday-tapestry-study-group-2025-03-16-2/2028-02-20/
LOCATION:Frank Family Ranch\, Bend\, 97703\, United States
CATEGORIES:Tapestry
ATTACH;FMTTYPE=image/avif:https://coswg.org/wp-content/uploads/2023/10/1664320837-small-tapestry-on-loom.avif
ORGANIZER;CN="COSWG":MAILTO:centraloregonspinnersweavers@gmail.com
END:VEVENT
BEGIN:VEVENT
DTSTART;TZID=America/Los_Angeles:20280319T130000
DTEND;TZID=America/Los_Angeles:20280319T150000
DTSTAMP:20260421T045716
CREATED:20251110T223911Z
LAST-MODIFIED:20260124T193830Z
UID:10001875-1837083600-1837090800@coswg.org
SUMMARY:Tapestry Interest Group meeting on Sunday
DESCRIPTION:This content is for members only.Join Now\nAlready a member? Log in here
URL:https://coswg.org/event/study-group-sunday-tapestry-study-group-2025-03-16-2/2028-03-19/
LOCATION:Frank Family Ranch\, Bend\, 97703\, United States
CATEGORIES:Tapestry
ATTACH;FMTTYPE=image/avif:https://coswg.org/wp-content/uploads/2023/10/1664320837-small-tapestry-on-loom.avif
ORGANIZER;CN="COSWG":MAILTO:centraloregonspinnersweavers@gmail.com
END:VEVENT
BEGIN:VEVENT
DTSTART;TZID=America/Los_Angeles:20280416T130000
DTEND;TZID=America/Los_Angeles:20280416T150000
DTSTAMP:20260421T045716
CREATED:20251110T223911Z
LAST-MODIFIED:20260124T193830Z
UID:10001876-1839502800-1839510000@coswg.org
SUMMARY:Tapestry Interest Group meeting on Sunday
DESCRIPTION:This content is for members only.Join Now\nAlready a member? Log in here
URL:https://coswg.org/event/study-group-sunday-tapestry-study-group-2025-03-16-2/2028-04-16/
LOCATION:Frank Family Ranch\, Bend\, 97703\, United States
CATEGORIES:Tapestry
ATTACH;FMTTYPE=image/avif:https://coswg.org/wp-content/uploads/2023/10/1664320837-small-tapestry-on-loom.avif
ORGANIZER;CN="COSWG":MAILTO:centraloregonspinnersweavers@gmail.com
END:VEVENT
BEGIN:VEVENT
DTSTART;TZID=America/Los_Angeles:20280521T130000
DTEND;TZID=America/Los_Angeles:20280521T150000
DTSTAMP:20260421T045716
CREATED:20251110T223911Z
LAST-MODIFIED:20260124T193830Z
UID:10001877-1842526800-1842534000@coswg.org
SUMMARY:Tapestry Interest Group meeting on Sunday
DESCRIPTION:This content is for members only.Join Now\nAlready a member? Log in here
URL:https://coswg.org/event/study-group-sunday-tapestry-study-group-2025-03-16-2/2028-05-21/
LOCATION:Frank Family Ranch\, Bend\, 97703\, United States
CATEGORIES:Tapestry
ATTACH;FMTTYPE=image/avif:https://coswg.org/wp-content/uploads/2023/10/1664320837-small-tapestry-on-loom.avif
ORGANIZER;CN="COSWG":MAILTO:centraloregonspinnersweavers@gmail.com
END:VEVENT
BEGIN:VEVENT
DTSTART;TZID=America/Los_Angeles:20280618T130000
DTEND;TZID=America/Los_Angeles:20280618T150000
DTSTAMP:20260421T045716
CREATED:20251110T223911Z
LAST-MODIFIED:20260124T193830Z
UID:10001878-1844946000-1844953200@coswg.org
SUMMARY:Tapestry Interest Group meeting on Sunday
DESCRIPTION:This content is for members only.Join Now\nAlready a member? Log in here
URL:https://coswg.org/event/study-group-sunday-tapestry-study-group-2025-03-16-2/2028-06-18/
LOCATION:Frank Family Ranch\, Bend\, 97703\, United States
CATEGORIES:Tapestry
ATTACH;FMTTYPE=image/avif:https://coswg.org/wp-content/uploads/2023/10/1664320837-small-tapestry-on-loom.avif
ORGANIZER;CN="COSWG":MAILTO:centraloregonspinnersweavers@gmail.com
END:VEVENT
BEGIN:VEVENT
DTSTART;TZID=America/Los_Angeles:20280716T130000
DTEND;TZID=America/Los_Angeles:20280716T150000
DTSTAMP:20260421T045716
CREATED:20251110T223911Z
LAST-MODIFIED:20260124T193830Z
UID:10001879-1847365200-1847372400@coswg.org
SUMMARY:Tapestry Interest Group meeting on Sunday
DESCRIPTION:This content is for members only.Join Now\nAlready a member? Log in here
URL:https://coswg.org/event/study-group-sunday-tapestry-study-group-2025-03-16-2/2028-07-16/
LOCATION:Frank Family Ranch\, Bend\, 97703\, United States
CATEGORIES:Tapestry
ATTACH;FMTTYPE=image/avif:https://coswg.org/wp-content/uploads/2023/10/1664320837-small-tapestry-on-loom.avif
ORGANIZER;CN="COSWG":MAILTO:centraloregonspinnersweavers@gmail.com
END:VEVENT
BEGIN:VEVENT
DTSTART;TZID=America/Los_Angeles:20280820T130000
DTEND;TZID=America/Los_Angeles:20280820T150000
DTSTAMP:20260421T045716
CREATED:20251110T223911Z
LAST-MODIFIED:20260124T193830Z
UID:10001880-1850389200-1850396400@coswg.org
SUMMARY:Tapestry Interest Group meeting on Sunday
DESCRIPTION:This content is for members only.Join Now\nAlready a member? Log in here
URL:https://coswg.org/event/study-group-sunday-tapestry-study-group-2025-03-16-2/2028-08-20/
LOCATION:Frank Family Ranch\, Bend\, 97703\, United States
CATEGORIES:Tapestry
ATTACH;FMTTYPE=image/avif:https://coswg.org/wp-content/uploads/2023/10/1664320837-small-tapestry-on-loom.avif
ORGANIZER;CN="COSWG":MAILTO:centraloregonspinnersweavers@gmail.com
END:VEVENT
BEGIN:VEVENT
DTSTART;TZID=America/Los_Angeles:20280917T130000
DTEND;TZID=America/Los_Angeles:20280917T150000
DTSTAMP:20260421T045716
CREATED:20251110T223911Z
LAST-MODIFIED:20260124T193830Z
UID:10001881-1852808400-1852815600@coswg.org
SUMMARY:Tapestry Interest Group meeting on Sunday
DESCRIPTION:This content is for members only.Join Now\nAlready a member? Log in here
URL:https://coswg.org/event/study-group-sunday-tapestry-study-group-2025-03-16-2/2028-09-17/
LOCATION:Frank Family Ranch\, Bend\, 97703\, United States
CATEGORIES:Tapestry
ATTACH;FMTTYPE=image/avif:https://coswg.org/wp-content/uploads/2023/10/1664320837-small-tapestry-on-loom.avif
ORGANIZER;CN="COSWG":MAILTO:centraloregonspinnersweavers@gmail.com
END:VEVENT
BEGIN:VEVENT
DTSTART;TZID=America/Los_Angeles:20281015T130000
DTEND;TZID=America/Los_Angeles:20281015T150000
DTSTAMP:20260421T045716
CREATED:20251110T223911Z
LAST-MODIFIED:20260124T193830Z
UID:10001882-1855227600-1855234800@coswg.org
SUMMARY:Tapestry Interest Group meeting on Sunday
DESCRIPTION:This content is for members only.Join Now\nAlready a member? Log in here
URL:https://coswg.org/event/study-group-sunday-tapestry-study-group-2025-03-16-2/2028-10-15/
LOCATION:Frank Family Ranch\, Bend\, 97703\, United States
CATEGORIES:Tapestry
ATTACH;FMTTYPE=image/avif:https://coswg.org/wp-content/uploads/2023/10/1664320837-small-tapestry-on-loom.avif
ORGANIZER;CN="COSWG":MAILTO:centraloregonspinnersweavers@gmail.com
END:VEVENT
BEGIN:VEVENT
DTSTART;TZID=America/Los_Angeles:20281119T130000
DTEND;TZID=America/Los_Angeles:20281119T150000
DTSTAMP:20260421T045716
CREATED:20251110T223911Z
LAST-MODIFIED:20260124T193830Z
UID:10001883-1858251600-1858258800@coswg.org
SUMMARY:Tapestry Interest Group meeting on Sunday
DESCRIPTION:This content is for members only.Join Now\nAlready a member? Log in here
URL:https://coswg.org/event/study-group-sunday-tapestry-study-group-2025-03-16-2/2028-11-19/
LOCATION:Frank Family Ranch\, Bend\, 97703\, United States
CATEGORIES:Tapestry
ATTACH;FMTTYPE=image/avif:https://coswg.org/wp-content/uploads/2023/10/1664320837-small-tapestry-on-loom.avif
ORGANIZER;CN="COSWG":MAILTO:centraloregonspinnersweavers@gmail.com
END:VEVENT
BEGIN:VEVENT
DTSTART;TZID=America/Los_Angeles:20281217T130000
DTEND;TZID=America/Los_Angeles:20281217T150000
DTSTAMP:20260421T045716
CREATED:20251110T223911Z
LAST-MODIFIED:20260124T193830Z
UID:10001884-1860670800-1860678000@coswg.org
SUMMARY:Tapestry Interest Group meeting on Sunday
DESCRIPTION:This content is for members only.Join Now\nAlready a member? Log in here
URL:https://coswg.org/event/study-group-sunday-tapestry-study-group-2025-03-16-2/2028-12-17/
LOCATION:Frank Family Ranch\, Bend\, 97703\, United States
CATEGORIES:Tapestry
ATTACH;FMTTYPE=image/avif:https://coswg.org/wp-content/uploads/2023/10/1664320837-small-tapestry-on-loom.avif
ORGANIZER;CN="COSWG":MAILTO:centraloregonspinnersweavers@gmail.com
END:VEVENT
BEGIN:VEVENT
DTSTART;TZID=America/Los_Angeles:20290121T130000
DTEND;TZID=America/Los_Angeles:20290121T150000
DTSTAMP:20260421T045716
CREATED:20251110T223911Z
LAST-MODIFIED:20260124T193830Z
UID:10001885-1863694800-1863702000@coswg.org
SUMMARY:Tapestry Interest Group meeting on Sunday
DESCRIPTION:This content is for members only.Join Now\nAlready a member? Log in here
URL:https://coswg.org/event/study-group-sunday-tapestry-study-group-2025-03-16-2/2029-01-21/
LOCATION:Frank Family Ranch\, Bend\, 97703\, United States
CATEGORIES:Tapestry
ATTACH;FMTTYPE=image/avif:https://coswg.org/wp-content/uploads/2023/10/1664320837-small-tapestry-on-loom.avif
ORGANIZER;CN="COSWG":MAILTO:centraloregonspinnersweavers@gmail.com
END:VEVENT
BEGIN:VEVENT
DTSTART;TZID=America/Los_Angeles:20290218T130000
DTEND;TZID=America/Los_Angeles:20290218T150000
DTSTAMP:20260421T045716
CREATED:20251110T223911Z
LAST-MODIFIED:20260124T193830Z
UID:10001886-1866114000-1866121200@coswg.org
SUMMARY:Tapestry Interest Group meeting on Sunday
DESCRIPTION:This content is for members only.Join Now\nAlready a member? Log in here
URL:https://coswg.org/event/study-group-sunday-tapestry-study-group-2025-03-16-2/2029-02-18/
LOCATION:Frank Family Ranch\, Bend\, 97703\, United States
CATEGORIES:Tapestry
ATTACH;FMTTYPE=image/avif:https://coswg.org/wp-content/uploads/2023/10/1664320837-small-tapestry-on-loom.avif
ORGANIZER;CN="COSWG":MAILTO:centraloregonspinnersweavers@gmail.com
END:VEVENT
BEGIN:VEVENT
DTSTART;TZID=America/Los_Angeles:20290318T130000
DTEND;TZID=America/Los_Angeles:20290318T150000
DTSTAMP:20260421T045716
CREATED:20251110T223911Z
LAST-MODIFIED:20260124T193830Z
UID:10001887-1868533200-1868540400@coswg.org
SUMMARY:Tapestry Interest Group meeting on Sunday
DESCRIPTION:This content is for members only.Join Now\nAlready a member? Log in here
URL:https://coswg.org/event/study-group-sunday-tapestry-study-group-2025-03-16-2/2029-03-18/
LOCATION:Frank Family Ranch\, Bend\, 97703\, United States
CATEGORIES:Tapestry
ATTACH;FMTTYPE=image/avif:https://coswg.org/wp-content/uploads/2023/10/1664320837-small-tapestry-on-loom.avif
ORGANIZER;CN="COSWG":MAILTO:centraloregonspinnersweavers@gmail.com
END:VEVENT
BEGIN:VEVENT
DTSTART;TZID=America/Los_Angeles:20290415T130000
DTEND;TZID=America/Los_Angeles:20290415T150000
DTSTAMP:20260421T045716
CREATED:20251110T223911Z
LAST-MODIFIED:20260124T193830Z
UID:10001888-1870952400-1870959600@coswg.org
SUMMARY:Tapestry Interest Group meeting on Sunday
DESCRIPTION:This content is for members only.Join Now\nAlready a member? Log in here
URL:https://coswg.org/event/study-group-sunday-tapestry-study-group-2025-03-16-2/2029-04-15/
LOCATION:Frank Family Ranch\, Bend\, 97703\, United States
CATEGORIES:Tapestry
ATTACH;FMTTYPE=image/avif:https://coswg.org/wp-content/uploads/2023/10/1664320837-small-tapestry-on-loom.avif
ORGANIZER;CN="COSWG":MAILTO:centraloregonspinnersweavers@gmail.com
END:VEVENT
BEGIN:VEVENT
DTSTART;TZID=America/Los_Angeles:20290520T130000
DTEND;TZID=America/Los_Angeles:20290520T150000
DTSTAMP:20260421T045716
CREATED:20251110T223911Z
LAST-MODIFIED:20260124T193830Z
UID:10001889-1873976400-1873983600@coswg.org
SUMMARY:Tapestry Interest Group meeting on Sunday
DESCRIPTION:This content is for members only.Join Now\nAlready a member? Log in here
URL:https://coswg.org/event/study-group-sunday-tapestry-study-group-2025-03-16-2/2029-05-20/
LOCATION:Frank Family Ranch\, Bend\, 97703\, United States
CATEGORIES:Tapestry
ATTACH;FMTTYPE=image/avif:https://coswg.org/wp-content/uploads/2023/10/1664320837-small-tapestry-on-loom.avif
ORGANIZER;CN="COSWG":MAILTO:centraloregonspinnersweavers@gmail.com
END:VEVENT
BEGIN:VEVENT
DTSTART;TZID=America/Los_Angeles:20290617T130000
DTEND;TZID=America/Los_Angeles:20290617T150000
DTSTAMP:20260421T045716
CREATED:20251110T223911Z
LAST-MODIFIED:20260124T193830Z
UID:10001890-1876395600-1876402800@coswg.org
SUMMARY:Tapestry Interest Group meeting on Sunday
DESCRIPTION:This content is for members only.Join Now\nAlready a member? Log in here
URL:https://coswg.org/event/study-group-sunday-tapestry-study-group-2025-03-16-2/2029-06-17/
LOCATION:Frank Family Ranch\, Bend\, 97703\, United States
CATEGORIES:Tapestry
ATTACH;FMTTYPE=image/avif:https://coswg.org/wp-content/uploads/2023/10/1664320837-small-tapestry-on-loom.avif
ORGANIZER;CN="COSWG":MAILTO:centraloregonspinnersweavers@gmail.com
END:VEVENT
BEGIN:VEVENT
DTSTART;TZID=America/Los_Angeles:20290715T130000
DTEND;TZID=America/Los_Angeles:20290715T150000
DTSTAMP:20260421T045716
CREATED:20251110T223911Z
LAST-MODIFIED:20260124T193830Z
UID:10001891-1878814800-1878822000@coswg.org
SUMMARY:Tapestry Interest Group meeting on Sunday
DESCRIPTION:This content is for members only.Join Now\nAlready a member? Log in here
URL:https://coswg.org/event/study-group-sunday-tapestry-study-group-2025-03-16-2/2029-07-15/
LOCATION:Frank Family Ranch\, Bend\, 97703\, United States
CATEGORIES:Tapestry
ATTACH;FMTTYPE=image/avif:https://coswg.org/wp-content/uploads/2023/10/1664320837-small-tapestry-on-loom.avif
ORGANIZER;CN="COSWG":MAILTO:centraloregonspinnersweavers@gmail.com
END:VEVENT
BEGIN:VEVENT
DTSTART;TZID=America/Los_Angeles:20290819T130000
DTEND;TZID=America/Los_Angeles:20290819T150000
DTSTAMP:20260421T045716
CREATED:20251110T223911Z
LAST-MODIFIED:20260124T193830Z
UID:10001892-1881838800-1881846000@coswg.org
SUMMARY:Tapestry Interest Group meeting on Sunday
DESCRIPTION:This content is for members only.Join Now\nAlready a member? Log in here
URL:https://coswg.org/event/study-group-sunday-tapestry-study-group-2025-03-16-2/2029-08-19/
LOCATION:Frank Family Ranch\, Bend\, 97703\, United States
CATEGORIES:Tapestry
ATTACH;FMTTYPE=image/avif:https://coswg.org/wp-content/uploads/2023/10/1664320837-small-tapestry-on-loom.avif
ORGANIZER;CN="COSWG":MAILTO:centraloregonspinnersweavers@gmail.com
END:VEVENT
BEGIN:VEVENT
DTSTART;TZID=America/Los_Angeles:20290916T130000
DTEND;TZID=America/Los_Angeles:20290916T150000
DTSTAMP:20260421T045716
CREATED:20251110T223911Z
LAST-MODIFIED:20260124T193830Z
UID:10001893-1884258000-1884265200@coswg.org
SUMMARY:Tapestry Interest Group meeting on Sunday
DESCRIPTION:This content is for members only.Join Now\nAlready a member? Log in here
URL:https://coswg.org/event/study-group-sunday-tapestry-study-group-2025-03-16-2/2029-09-16/
LOCATION:Frank Family Ranch\, Bend\, 97703\, United States
CATEGORIES:Tapestry
ATTACH;FMTTYPE=image/avif:https://coswg.org/wp-content/uploads/2023/10/1664320837-small-tapestry-on-loom.avif
ORGANIZER;CN="COSWG":MAILTO:centraloregonspinnersweavers@gmail.com
END:VEVENT
BEGIN:VEVENT
DTSTART;TZID=America/Los_Angeles:20291021T130000
DTEND;TZID=America/Los_Angeles:20291021T150000
DTSTAMP:20260421T045716
CREATED:20251110T223911Z
LAST-MODIFIED:20260124T193830Z
UID:10001894-1887282000-1887289200@coswg.org
SUMMARY:Tapestry Interest Group meeting on Sunday
DESCRIPTION:This content is for members only.Join Now\nAlready a member? Log in here
URL:https://coswg.org/event/study-group-sunday-tapestry-study-group-2025-03-16-2/2029-10-21/
LOCATION:Frank Family Ranch\, Bend\, 97703\, United States
CATEGORIES:Tapestry
ATTACH;FMTTYPE=image/avif:https://coswg.org/wp-content/uploads/2023/10/1664320837-small-tapestry-on-loom.avif
ORGANIZER;CN="COSWG":MAILTO:centraloregonspinnersweavers@gmail.com
END:VEVENT
END:VCALENDAR