BEGIN:VCALENDAR
VERSION:2.0
PRODID:-//COSWG - ECPv6.15.20//NONSGML v1.0//EN
CALSCALE:GREGORIAN
METHOD:PUBLISH
X-WR-CALNAME:COSWG
X-ORIGINAL-URL:https://coswg.org
X-WR-CALDESC:Events for COSWG
REFRESH-INTERVAL;VALUE=DURATION:PT1H
X-Robots-Tag:noindex
X-PUBLISHED-TTL:PT1H
BEGIN:VTIMEZONE
TZID:America/Los_Angeles
BEGIN:DAYLIGHT
TZOFFSETFROM:-0800
TZOFFSETTO:-0700
TZNAME:PDT
DTSTART:20290311T100000
END:DAYLIGHT
BEGIN:STANDARD
TZOFFSETFROM:-0700
TZOFFSETTO:-0800
TZNAME:PST
DTSTART:20291104T090000
END:STANDARD
BEGIN:DAYLIGHT
TZOFFSETFROM:-0800
TZOFFSETTO:-0700
TZNAME:PDT
DTSTART:20300310T100000
END:DAYLIGHT
BEGIN:STANDARD
TZOFFSETFROM:-0700
TZOFFSETTO:-0800
TZNAME:PST
DTSTART:20301103T090000
END:STANDARD
BEGIN:DAYLIGHT
TZOFFSETFROM:-0800
TZOFFSETTO:-0700
TZNAME:PDT
DTSTART:20310309T100000
END:DAYLIGHT
BEGIN:STANDARD
TZOFFSETFROM:-0700
TZOFFSETTO:-0800
TZNAME:PST
DTSTART:20311102T090000
END:STANDARD
BEGIN:DAYLIGHT
TZOFFSETFROM:-0800
TZOFFSETTO:-0700
TZNAME:PDT
DTSTART:20320314T100000
END:DAYLIGHT
BEGIN:STANDARD
TZOFFSETFROM:-0700
TZOFFSETTO:-0800
TZNAME:PST
DTSTART:20321107T090000
END:STANDARD
END:VTIMEZONE
BEGIN:VEVENT
DTSTART;TZID=America/Los_Angeles:20300519T130000
DTEND;TZID=America/Los_Angeles:20300519T150000
DTSTAMP:20260421T103307
CREATED:20251110T223911Z
LAST-MODIFIED:20260124T193830Z
UID:10001901-1905426000-1905433200@coswg.org
SUMMARY:Tapestry Interest Group meeting on Sunday
DESCRIPTION:This content is for members only.Join Now\nAlready a member? Log in here
URL:https://coswg.org/event/study-group-sunday-tapestry-study-group-2025-03-16-2/2030-05-19/
LOCATION:Frank Family Ranch\, Bend\, 97703\, United States
CATEGORIES:Tapestry
ATTACH;FMTTYPE=image/avif:https://coswg.org/wp-content/uploads/2023/10/1664320837-small-tapestry-on-loom.avif
ORGANIZER;CN="COSWG":MAILTO:centraloregonspinnersweavers@gmail.com
END:VEVENT
BEGIN:VEVENT
DTSTART;TZID=America/Los_Angeles:20300616T130000
DTEND;TZID=America/Los_Angeles:20300616T150000
DTSTAMP:20260421T103307
CREATED:20251110T223911Z
LAST-MODIFIED:20260124T193830Z
UID:10001902-1907845200-1907852400@coswg.org
SUMMARY:Tapestry Interest Group meeting on Sunday
DESCRIPTION:This content is for members only.Join Now\nAlready a member? Log in here
URL:https://coswg.org/event/study-group-sunday-tapestry-study-group-2025-03-16-2/2030-06-16/
LOCATION:Frank Family Ranch\, Bend\, 97703\, United States
CATEGORIES:Tapestry
ATTACH;FMTTYPE=image/avif:https://coswg.org/wp-content/uploads/2023/10/1664320837-small-tapestry-on-loom.avif
ORGANIZER;CN="COSWG":MAILTO:centraloregonspinnersweavers@gmail.com
END:VEVENT
BEGIN:VEVENT
DTSTART;TZID=America/Los_Angeles:20300721T130000
DTEND;TZID=America/Los_Angeles:20300721T150000
DTSTAMP:20260421T103307
CREATED:20251110T223911Z
LAST-MODIFIED:20260124T193830Z
UID:10001903-1910869200-1910876400@coswg.org
SUMMARY:Tapestry Interest Group meeting on Sunday
DESCRIPTION:This content is for members only.Join Now\nAlready a member? Log in here
URL:https://coswg.org/event/study-group-sunday-tapestry-study-group-2025-03-16-2/2030-07-21/
LOCATION:Frank Family Ranch\, Bend\, 97703\, United States
CATEGORIES:Tapestry
ATTACH;FMTTYPE=image/avif:https://coswg.org/wp-content/uploads/2023/10/1664320837-small-tapestry-on-loom.avif
ORGANIZER;CN="COSWG":MAILTO:centraloregonspinnersweavers@gmail.com
END:VEVENT
BEGIN:VEVENT
DTSTART;TZID=America/Los_Angeles:20300818T130000
DTEND;TZID=America/Los_Angeles:20300818T150000
DTSTAMP:20260421T103307
CREATED:20251110T223911Z
LAST-MODIFIED:20260124T193830Z
UID:10001904-1913288400-1913295600@coswg.org
SUMMARY:Tapestry Interest Group meeting on Sunday
DESCRIPTION:This content is for members only.Join Now\nAlready a member? Log in here
URL:https://coswg.org/event/study-group-sunday-tapestry-study-group-2025-03-16-2/2030-08-18/
LOCATION:Frank Family Ranch\, Bend\, 97703\, United States
CATEGORIES:Tapestry
ATTACH;FMTTYPE=image/avif:https://coswg.org/wp-content/uploads/2023/10/1664320837-small-tapestry-on-loom.avif
ORGANIZER;CN="COSWG":MAILTO:centraloregonspinnersweavers@gmail.com
END:VEVENT
BEGIN:VEVENT
DTSTART;TZID=America/Los_Angeles:20300915T130000
DTEND;TZID=America/Los_Angeles:20300915T150000
DTSTAMP:20260421T103307
CREATED:20251110T223911Z
LAST-MODIFIED:20260124T193830Z
UID:10001905-1915707600-1915714800@coswg.org
SUMMARY:Tapestry Interest Group meeting on Sunday
DESCRIPTION:This content is for members only.Join Now\nAlready a member? Log in here
URL:https://coswg.org/event/study-group-sunday-tapestry-study-group-2025-03-16-2/2030-09-15/
LOCATION:Frank Family Ranch\, Bend\, 97703\, United States
CATEGORIES:Tapestry
ATTACH;FMTTYPE=image/avif:https://coswg.org/wp-content/uploads/2023/10/1664320837-small-tapestry-on-loom.avif
ORGANIZER;CN="COSWG":MAILTO:centraloregonspinnersweavers@gmail.com
END:VEVENT
BEGIN:VEVENT
DTSTART;TZID=America/Los_Angeles:20301020T130000
DTEND;TZID=America/Los_Angeles:20301020T150000
DTSTAMP:20260421T103307
CREATED:20251110T223911Z
LAST-MODIFIED:20260124T193830Z
UID:10001906-1918731600-1918738800@coswg.org
SUMMARY:Tapestry Interest Group meeting on Sunday
DESCRIPTION:This content is for members only.Join Now\nAlready a member? Log in here
URL:https://coswg.org/event/study-group-sunday-tapestry-study-group-2025-03-16-2/2030-10-20/
LOCATION:Frank Family Ranch\, Bend\, 97703\, United States
CATEGORIES:Tapestry
ATTACH;FMTTYPE=image/avif:https://coswg.org/wp-content/uploads/2023/10/1664320837-small-tapestry-on-loom.avif
ORGANIZER;CN="COSWG":MAILTO:centraloregonspinnersweavers@gmail.com
END:VEVENT
BEGIN:VEVENT
DTSTART;TZID=America/Los_Angeles:20301117T130000
DTEND;TZID=America/Los_Angeles:20301117T150000
DTSTAMP:20260421T103307
CREATED:20251110T223911Z
LAST-MODIFIED:20260124T193830Z
UID:10001907-1921150800-1921158000@coswg.org
SUMMARY:Tapestry Interest Group meeting on Sunday
DESCRIPTION:This content is for members only.Join Now\nAlready a member? Log in here
URL:https://coswg.org/event/study-group-sunday-tapestry-study-group-2025-03-16-2/2030-11-17/
LOCATION:Frank Family Ranch\, Bend\, 97703\, United States
CATEGORIES:Tapestry
ATTACH;FMTTYPE=image/avif:https://coswg.org/wp-content/uploads/2023/10/1664320837-small-tapestry-on-loom.avif
ORGANIZER;CN="COSWG":MAILTO:centraloregonspinnersweavers@gmail.com
END:VEVENT
BEGIN:VEVENT
DTSTART;TZID=America/Los_Angeles:20301215T130000
DTEND;TZID=America/Los_Angeles:20301215T150000
DTSTAMP:20260421T103307
CREATED:20251110T223911Z
LAST-MODIFIED:20260124T193830Z
UID:10001908-1923570000-1923577200@coswg.org
SUMMARY:Tapestry Interest Group meeting on Sunday
DESCRIPTION:This content is for members only.Join Now\nAlready a member? Log in here
URL:https://coswg.org/event/study-group-sunday-tapestry-study-group-2025-03-16-2/2030-12-15/
LOCATION:Frank Family Ranch\, Bend\, 97703\, United States
CATEGORIES:Tapestry
ATTACH;FMTTYPE=image/avif:https://coswg.org/wp-content/uploads/2023/10/1664320837-small-tapestry-on-loom.avif
ORGANIZER;CN="COSWG":MAILTO:centraloregonspinnersweavers@gmail.com
END:VEVENT
BEGIN:VEVENT
DTSTART;TZID=America/Los_Angeles:20310119T130000
DTEND;TZID=America/Los_Angeles:20310119T150000
DTSTAMP:20260421T103307
CREATED:20251110T223911Z
LAST-MODIFIED:20260124T193830Z
UID:10002033-1926594000-1926601200@coswg.org
SUMMARY:Tapestry Interest Group meeting on Sunday
DESCRIPTION:This content is for members only.Join Now\nAlready a member? Log in here
URL:https://coswg.org/event/study-group-sunday-tapestry-study-group-2025-03-16-2/2031-01-19/
LOCATION:Frank Family Ranch\, Bend\, 97703\, United States
CATEGORIES:Tapestry
ATTACH;FMTTYPE=image/avif:https://coswg.org/wp-content/uploads/2023/10/1664320837-small-tapestry-on-loom.avif
ORGANIZER;CN="COSWG":MAILTO:centraloregonspinnersweavers@gmail.com
END:VEVENT
END:VCALENDAR