BEGIN:VCALENDAR
VERSION:2.0
PRODID:-//COSWG - ECPv6.15.20//NONSGML v1.0//EN
CALSCALE:GREGORIAN
METHOD:PUBLISH
X-WR-CALNAME:COSWG
X-ORIGINAL-URL:https://coswg.org
X-WR-CALDESC:Events for COSWG
REFRESH-INTERVAL;VALUE=DURATION:PT1H
X-Robots-Tag:noindex
X-PUBLISHED-TTL:PT1H
BEGIN:VTIMEZONE
TZID:America/Los_Angeles
BEGIN:DAYLIGHT
TZOFFSETFROM:-0800
TZOFFSETTO:-0700
TZNAME:PDT
DTSTART:20220313T100000
END:DAYLIGHT
BEGIN:STANDARD
TZOFFSETFROM:-0700
TZOFFSETTO:-0800
TZNAME:PST
DTSTART:20221106T090000
END:STANDARD
BEGIN:DAYLIGHT
TZOFFSETFROM:-0800
TZOFFSETTO:-0700
TZNAME:PDT
DTSTART:20230312T100000
END:DAYLIGHT
BEGIN:STANDARD
TZOFFSETFROM:-0700
TZOFFSETTO:-0800
TZNAME:PST
DTSTART:20231105T090000
END:STANDARD
BEGIN:DAYLIGHT
TZOFFSETFROM:-0800
TZOFFSETTO:-0700
TZNAME:PDT
DTSTART:20240310T100000
END:DAYLIGHT
BEGIN:STANDARD
TZOFFSETFROM:-0700
TZOFFSETTO:-0800
TZNAME:PST
DTSTART:20241103T090000
END:STANDARD
BEGIN:DAYLIGHT
TZOFFSETFROM:-0800
TZOFFSETTO:-0700
TZNAME:PDT
DTSTART:20250309T100000
END:DAYLIGHT
BEGIN:STANDARD
TZOFFSETFROM:-0700
TZOFFSETTO:-0800
TZNAME:PST
DTSTART:20251102T090000
END:STANDARD
BEGIN:DAYLIGHT
TZOFFSETFROM:-0800
TZOFFSETTO:-0700
TZNAME:PDT
DTSTART:20260308T100000
END:DAYLIGHT
BEGIN:STANDARD
TZOFFSETFROM:-0700
TZOFFSETTO:-0800
TZNAME:PST
DTSTART:20261101T090000
END:STANDARD
END:VTIMEZONE
BEGIN:VEVENT
DTSTART;VALUE=DATE:20251001
DTEND;VALUE=DATE:20251206
DTSTAMP:20260421T032912
CREATED:20250921T223348Z
LAST-MODIFIED:20251006T201513Z
UID:10001089-1759276800-1764979199@coswg.org
SUMMARY:Exhibition: A Life Well Woven - Dee Ford Potter
DESCRIPTION:Exhibition September 22 through December 7 in the Barber Library Rotunda Gallery\, COCC campus \nReception: 4 p.m. – 5:30 p.m. on Oct. 1 \nFree and open to the public.
URL:https://coswg.org/event/exhibition-a-life-well-woven-dee-ford-potter/
LOCATION:Central Oregon Community College – Barber Library\, Rotunda\, 2600 NW College Way\, Bend\, OR\, 97703\, United States
CATEGORIES:Outside Events,Public
ATTACH;FMTTYPE=image/png:https://coswg.org/wp-content/uploads/2025/09/unnamed.png
END:VEVENT
BEGIN:VEVENT
DTSTART;TZID=America/Los_Angeles:20230906T080000
DTEND;TZID=America/Los_Angeles:20231108T180000
DTSTAMP:20260421T032913
CREATED:20231020T152406Z
LAST-MODIFIED:20231020T153119Z
UID:10000982-1693987200-1699466400@coswg.org
SUMMARY:Weaving Guilds of Oregon (WeGO) - Filaments (traveling show)
DESCRIPTION:Image: Wild Colors Fabric for Coat by Lucy DeFranco. Photograph by Lucy DeFranco. \nFilaments is a juried traveling show sponsored by the Weaving Guilds of Oregon (WeGO). It includes 47 pieces from 24 different artists and will travel over 1200 miles to 6 locations in Oregon. \n\nExhibit Dates: September 6 – November 8.\nThe Gallery is open during Library hours.\nExhibits and opening receptions are free and open to the public\n\n\n 
URL:https://coswg.org/event/weaving-guilds-of-oregon-wego-filaments-traveling-show/
LOCATION:Central Oregon Community College – Barber Library\, Rotunda\, 2600 NW College Way\, Bend\, OR\, 97703\, United States
CATEGORIES:Public
ATTACH;FMTTYPE=image/jpeg:https://coswg.org/wp-content/uploads/2023/10/coat-1.jpg
END:VEVENT
END:VCALENDAR